BEGIN:VCALENDAR
VERSION:2.0
PRODID:-// - ECPv6.6.3//NONSGML v1.0//EN
CALSCALE:GREGORIAN
METHOD:PUBLISH
X-ORIGINAL-URL:https://dv-forma-pro.com
X-WR-CALDESC:évènements pour 
REFRESH-INTERVAL;VALUE=DURATION:PT1H
X-Robots-Tag:noindex
X-PUBLISHED-TTL:PT1H
BEGIN:VTIMEZONE
TZID:UTC
BEGIN:STANDARD
TZOFFSETFROM:+0000
TZOFFSETTO:+0000
TZNAME:UTC
DTSTART:20240101T000000
END:STANDARD
END:VTIMEZONE
BEGIN:VEVENT
DTSTART;TZID=UTC:20241104T090000
DTEND;TZID=UTC:20241104T120000
DTSTAMP:20260420T001358
CREATED:20240829T071822Z
LAST-MODIFIED:20240904T124624Z
UID:1014-1730710800-1730721600@dv-forma-pro.com
SUMMARY:Porte ouverte-professionnels
DESCRIPTION:Rejoignez-nous pour cette journée porte ouverte chez DV Formapro ! Découvrez nos formations professionnelles\, échangez avec nos formateurs experts\, et explorez comment nos programmes peuvent booster les compétences de vos collaborateurs. Une occasion unique de plonger au cœur de notre offre de formation et de poser toutes vos questions. Ne manquez pas cette opportunité d’avancer dans votre carrière !
URL:https://dv-forma-pro.com/event/porte-ouverte-professionnels
LOCATION:111 route de la valentine 13011 Marseille\, 111 route de la valentine\, 13011 Marseille\, France
END:VEVENT
END:VCALENDAR